BEGIN:VCALENDAR
VERSION:2.0
PRODID:-//pretix//SV_Viktoria_Goch_-_Karnevalsabteilung_-_Ticketshop//
BEGIN:VTIMEZONE
TZID:Europe/Berlin
BEGIN:STANDARD
DTSTART:20001029T040000
RRULE:FREQ=YEARLY;BYDAY=-1SU;BYMONTH=10
TZNAME:CET
TZOFFSETFROM:+0200
TZOFFSETTO:+0100
END:STANDARD
BEGIN:DAYLIGHT
DTSTART:20000326T030000
RRULE:FREQ=YEARLY;BYDAY=-1SU;BYMONTH=3
TZNAME:CEST
TZOFFSETFROM:+0100
TZOFFSETTO:+0200
END:DAYLIGHT
END:VTIMEZONE
BEGIN:VEVENT
UID:pretix-viktoria-karneval-familien26-2@tickets.karneval-viktoria-goch.de
DTSTART;TZID=Europe/Berlin:20260118T151100
DTEND;TZID=Europe/Berlin:20260118T174500
DESCRIPTION:Tickets: https://tickets.karneval-viktoria-goch.de/familien26/2
 /\nEinlass: 18.01.2026 14:30\nVeranstalter: SV Viktoria Goch - Karnevalsab
 teilung
DTSTAMP:20260419T143951Z
LOCATION:Multifunctional Center De Klaproos\, Gochsedijk 87\, 5853 AX Siebe
 ngewald\, Niederlande
SUMMARY:Familiennachmittag
END:VEVENT
END:VCALENDAR
